BEGIN:VCALENDAR
VERSION:2.0
PRODID:-//ICCTI - ECPv6.1.3//NONSGML v1.0//EN
CALSCALE:GREGORIAN
METHOD:PUBLISH
X-WR-CALNAME:ICCTI
X-ORIGINAL-URL:https://iccti.chaco.gob.ar
X-WR-CALDESC:Eventos para ICCTI
REFRESH-INTERVAL;VALUE=DURATION:PT1H
X-Robots-Tag:noindex
X-PUBLISHED-TTL:PT1H
BEGIN:VTIMEZONE
TZID:America/Sao_Paulo
BEGIN:STANDARD
TZOFFSETFROM:-0300
TZOFFSETTO:-0300
TZNAME:-03
DTSTART:20230101T000000
END:STANDARD
TZID:UTC
BEGIN:STANDARD
TZOFFSETFROM:+0000
TZOFFSETTO:+0000
TZNAME:UTC
DTSTART:20230101T000000
END:STANDARD
TZID:America/Argentina/Buenos_Aires
BEGIN:STANDARD
TZOFFSETFROM:-0300
TZOFFSETTO:-0300
TZNAME:-03
DTSTART:20230101T000000
END:STANDARD
END:VTIMEZONE
BEGIN:VEVENT
DTSTART;TZID=America/Sao_Paulo:20230930T093000
DTEND;TZID=America/Sao_Paulo:20230930T130000
DTSTAMP:20260421T054921
CREATED:20230912T135555Z
LAST-MODIFIED:20230913T175825Z
UID:4228-1696066200-1696078800@iccti.chaco.gob.ar
SUMMARY:Ada Lovelace - Un evento para futuras programadoras
DESCRIPTION:En este evento vas a encontrar talleres lúdicos para futuras programadoras 🫶🏻👩🏻‍💻✨\nSe realizará el día 30 de Septiembre de 9:30 a 13 h\, en French 414\, UTN FRRe\, Resistencia.\nDestinado a niñas de 9 a 12 años\, la actividad es gratuita con inscripción previa en: bit.ly/AdaLovelaceICCTI \n✊🏻 El Día de Ada Lovelace es una celebración internacional dedicada a reconocer e impulsar a las mujeres en la ciencia\, tecnología\, ingeniería y matemática. 👧🏻🧒🏻🖥️ \nAda Lovelace nacida en Londres en 1815\, heredó el caracter aventurero del padre y la capacidad numérica de la madre. Rebelde y adelantada a su tiempo se describía a sí misma como una científica poetisa cuya pasión por las matemáticas se despertó desde muy joven. 0️⃣ 1️⃣ 0️⃣ 1️⃣ 1️⃣ 0️⃣\nA los 17 años conoció a Charles Babbag\, el creador de la máquina analítica\, a quien impresionó por su inteligencia y conocimientos. Ada fue la encargada de traducir su artículo al que añadió sus propias notas\, haciendo que fuera el doble de largo. 💪🏻\n📝 Entre sus notas se encuentra lo que hoy se conoce como el primer algoritmo destinado a ser procesado. 🔍🤗 \n«La imaginación es\, por excelencia\, la habilidad de descubrir. Es aquello que penetra en los mundos invisibles que nos rodean\, los mundos de la ciencia». Ada Lovelace
URL:https://iccti.chaco.gob.ar/event/ada-lovelace-un-evento-para-futuras-programadoras/
LOCATION:Chaco
ATTACH;FMTTYPE=image/png:https://iccti.chaco.gob.ar/wp-content/uploads/2023/09/AdaLovelace-Gacetilla-05.png
END:VEVENT
BEGIN:VEVENT
DTSTART;TZID=America/Sao_Paulo:20230921T100000
DTEND;TZID=America/Sao_Paulo:20230921T110000
DTSTAMP:20260421T054921
CREATED:20230913T151211Z
LAST-MODIFIED:20230913T151252Z
UID:4235-1695290400-1695294000@iccti.chaco.gob.ar
SUMMARY:Meetup Ciencia & Negocios - Valorizando la Ciencia y la Tecnología: Creación de Empresas de Base Tecnológica en CONICET.
DESCRIPTION:¡Meetup de Ciencia & Negocios! ✨\nValorizando la Ciencia y la Tecnología: Creación de Empresas de Base Tecnológica en CONICET. \n🧔🏻‍♂️Este evento estará a cargo del Dr. Sergio Romano\, Gerente de Vinculación Tecnológica de CONICET\, quien nos brindará herramientas para la promoción y desarrollo de las Empresas de Base Tecnológica\, y nos comentará cómo esta iniciativa fomenta la colaboración entre emprendedores e investigadores\, impulsando soluciones innovadoras. 📋☑️ \n🖥️ El encuentro es virtual a través de Zoom\, con inscripción previa en bit.ly/cienciaynegocios.\n🗓️ El día jueves 21 de Septiembre a las 10 h \n¡Te esperamos! 👏🏻
URL:https://iccti.chaco.gob.ar/event/meetup-conicet/
LOCATION:Chaco
ATTACH;FMTTYPE=image/png:https://iccti.chaco.gob.ar/wp-content/uploads/2023/09/Meetup-03.png
END:VEVENT
BEGIN:VEVENT
DTSTART;TZID=America/Sao_Paulo:20230908T083000
DTEND;TZID=America/Sao_Paulo:20230908T130000
DTSTAMP:20260421T054921
CREATED:20230828T140952Z
LAST-MODIFIED:20230905T124409Z
UID:4126-1694161800-1694178000@iccti.chaco.gob.ar
SUMMARY:Jornada de Inteligencia PyME
DESCRIPTION:Jornada de Inteligencia PyME: ¡Descubrí cómo adaptarte en situaciones desafiantes mediante estrategias de transformación!💡🗒️ \nUn evento donde vas a poder:\n📊 Familiarizarte con las herramientas de financiamiento y empleo disponibles\n👷🏽‍♀️ Conocer iniciativas locales innovadoras\n🫱🏼‍🫲🏽 Participar en un espacio de networking para fortalecer tus lazos con otras empresas \n👨🏽‍🏫 Tambien contaremos con la presencia del Ing. Industrial Alejandro Gariglio\, quien disertara sobre «Estrategias y transformacion digital» \n📆 ¿Cuando? Viernes 8 de septiembre\, de 8.30 hs a 13 hs\n📍 ¿Donde? Auditorio OSDE (Pueyrredón 152 5° piso\, Resistencia\, Chaco) \nInscribite en: bit.ly/JornadaInteligenciaPyME
URL:https://iccti.chaco.gob.ar/event/jornada-de-inteligencia-pyme/
LOCATION:Chaco
ATTACH;FMTTYPE=image/png:https://iccti.chaco.gob.ar/wp-content/uploads/2023/08/Gacetilla-02.png
END:VEVENT
BEGIN:VEVENT
DTSTART;TZID=America/Sao_Paulo:20230831T160000
DTEND;TZID=America/Sao_Paulo:20230831T180000
DTSTAMP:20260421T054921
CREATED:20230828T135018Z
LAST-MODIFIED:20230828T135018Z
UID:4114-1693497600-1693504800@iccti.chaco.gob.ar
SUMMARY:Semana Nano: Performance Nano
DESCRIPTION:El día Jueves 31 de agosto de 16 a 18h\, se presentará una Performance Nano\, en el Aula Magna UNNE – Av. Castelli 930. Una actividad destinada a diversos públicos\, entre ellos\, estudiantes secundarios\, estudiantes universitarios\,  investigadores\, empresas y startups y público en general; que busca descifrar y experimentar algunos conceptos centrales de la nanotecnología con actividades demostrativas mediante la participación del público presente.\nJunto a la Fundación Argentina de Nanotecnología\, en colaboración con el Instituto Chaqueño de Ciencia\, Tecnología e Innovación\, se llevan a cabo una serie de iniciativas con el objetivo de promover y difundir los avances en el campo de la nanotecnología\, así como fomentar su desarrollo a nivel local para estimular la innovación en la industria de la región.\n\nEvento gratuito y apto para todo público.\nInscribite completando el siguiente formulario: bit.ly/PerformanceNano
URL:https://iccti.chaco.gob.ar/event/semana-nano-performance-nano/
LOCATION:Chaco
ATTACH;FMTTYPE=image/png:https://iccti.chaco.gob.ar/wp-content/uploads/2023/08/RRSS-SemanaNanoChaco_Mesa-de-trabajo-1-copia-2.png
END:VEVENT
BEGIN:VEVENT
DTSTART;TZID=America/Sao_Paulo:20230829T180000
DTEND;TZID=America/Sao_Paulo:20230829T190000
DTSTAMP:20260421T054921
CREATED:20230828T140215Z
LAST-MODIFIED:20230828T140215Z
UID:4121-1693332000-1693335600@iccti.chaco.gob.ar
SUMMARY:Meetups - Ciencia y Negocio: El arte de emprender
DESCRIPTION:El Martes 29 de agosto\, a las 18h en la Usina Urbana (Av. Chaco y Cervantes\, Ciudad de Resistencia)\, se llevará a cabo el Meetups Ciencia y Negocio\, donde se presentará Gabriel Deboli\, con su charla «El arte de emprender».\nGabriel Deboli es un empresario\, mentor de mentores y Business Angel con más de 15 años de experiencia en el ecosistema emprendedor latinoamericano. Su enfoque en el crecimiento empresarial y el desarrollo regional lo ha llevado a contribuir en el desarrollo de proyectos innovadores para la creación de negocios sostenibles. Como presidente del Instituto para el Desarrollo Exponencial en Latinoamérica\, trabaja actualmente para profesionalizar a emprendedores\, mentores e inversores de riesgo. \nEn la charla nos comentará los aspectos que evalúa un inversionista ángel al momento de invertir en una empresa\, cuáles son las etapas y más información sobre los procesos que atraviesa un emprendedor en el camino a encontrar el tan ansiado encaje producto-mercado para crear una startup exitosa.\nInscribite acá: bit.ly/cienciaynegocios
URL:https://iccti.chaco.gob.ar/event/meetups-ciencia-y-negocio-el-arte-de-emprender/
LOCATION:Chaco
ATTACH;FMTTYPE=image/png:https://iccti.chaco.gob.ar/wp-content/uploads/2023/08/Meetup_instagram-copia-3.png
END:VEVENT
BEGIN:VEVENT
DTSTART;TZID=America/Sao_Paulo:20230828T170000
DTEND;TZID=America/Sao_Paulo:20230828T180000
DTSTAMP:20260421T054921
CREATED:20230828T135627Z
LAST-MODIFIED:20240506T152705Z
UID:4117-1693242000-1693245600@iccti.chaco.gob.ar
SUMMARY:Taller Nano para periodistas y funcionarios
DESCRIPTION:El día Lunes 28 de agosto a las 17h\, se presentará un Taller Nano para periodistas y funcionarios\, en el Laboratorio de Química – Facultad de Ingenieria – UNNE.\nEl evento se realizará en el marco de la Semana Nano\, junto a la Fundación Argentina de Nanotecnología\, en colaboración con el Instituto Chaqueño de Ciencia\, Tecnología e Innovación\, junto a una serie de iniciativas con el objetivo de promover y difundir los avances en el campo de la nanotecnología\, así como fomentar su desarrollo a nivel local para estimular la innovación en la industria de la región. \nEvento gratuito y apto para todo público. Inscribite completando el siguiente formulario: bit.ly/TallerNanoChaco
URL:https://iccti.chaco.gob.ar/event/4117/
LOCATION:Chaco
ATTACH;FMTTYPE=image/png:https://iccti.chaco.gob.ar/wp-content/uploads/2023/08/RRSS-SemanaNanoChaco_Mesa-de-trabajo-1-copia.png
END:VEVENT
BEGIN:VEVENT
DTSTART;TZID=America/Sao_Paulo:20230828T113000
DTEND;TZID=America/Sao_Paulo:20230828T120000
DTSTAMP:20260421T054921
CREATED:20230828T134323Z
LAST-MODIFIED:20230828T135055Z
UID:4111-1693222200-1693224000@iccti.chaco.gob.ar
SUMMARY:Semana Nano: Conversatorio
DESCRIPTION:Te invitamos a participar del Conversatorio de Semana Nano. \nSe llevará a cabo a las 11:30 h. en el Salón de la Reforma – Facultad de Ingeniería – UNNE\, contará con la presencia de la Dra. Vera Alvarez (Presidenta de la Fundación de Nanotecnología)\, Marcos Actis (Presidente de la empresa Vehículo Espacial Nueva Generación)\, Lic. Daniel Filmus (Ministro de Ciencia\, Tecnología e Innovación Nación)\, Mario de Bortoli (Decano de la Facultad de Ingeniería de la Universidad Nacional del Nordeste). \nModera: Juan Martín Fernández (Presidente del ICCTI). \nDel 28 de agosto al 1° de septiembre\, junto a la Fundación Argentina de Nanotecnología\, creamos una serie de iniciativas con el objetivo de promover y difundir los avances en el campo de la nanotecnología\, así como fomentar su desarrollo a nivel local para estimular la innovación en la industria de la región. Estará orientado a diversos públicos\, entre ellos\, estudiantes secundarios\, estudiantes universitarios\,  investigadores\, empresas y startups y público en general; buscando impulsar la incorporación de la nanotecnología.\nConocé las actividades en: iccti.chaco.gob.ar/semananano.
URL:https://iccti.chaco.gob.ar/event/semana-nano-conversatorio/
LOCATION:Chaco
ATTACH;FMTTYPE=image/png:https://iccti.chaco.gob.ar/wp-content/uploads/2023/08/RRSS-SemanaNanoChaco-1920x1080px-30.png
END:VEVENT
BEGIN:VEVENT
DTSTART;TZID=America/Sao_Paulo:20230828T110000
DTEND;TZID=America/Sao_Paulo:20230828T113000
DTSTAMP:20260421T054921
CREATED:20230828T133939Z
LAST-MODIFIED:20230828T134120Z
UID:4105-1693220400-1693222200@iccti.chaco.gob.ar
SUMMARY:Semana Nano: Lanzamiento
DESCRIPTION:Te invitamos a participar del Lanzamiento de Semana Nano. \nEn el marco de las iniciativas para federalizar la nanotecnología en todo el país\, y previo a la instalación de una sede de la Fundación Argentina de Nanotecnología (FAN) en la provincia\, se realizará la Semana Nano por primera vez en el Chaco. El evento de apertura se llevará a cabo a las 11:00 h. en el Salón de la Reforma – Facultad de Ingeniería – UNNE\, contará con la presencia de la Dra. Vera Alvarez (Presidenta de la Fundación de Nanotecnología)\, Marcos Actis (Presidente de la empresa Vehículo Espacial Nueva Generación)\, Lic. Daniel Filmus (Ministro de Ciencia\, Tecnología e Innovación Nación)\, Mario de Bortoli (Decano de la Facultad de Ingeniería de la Universidad Nacional del Nordeste) y Juan Martín Fernández (Presidente del ICCTI). \nDel 28 de agosto al 1° de septiembre\, junto a la Fundación Argentina de Nanotecnología\, creamos una serie de iniciativas con el objetivo de promover y difundir los avances en el campo de la nanotecnología\, así como fomentar su desarrollo a nivel local para estimular la innovación en la industria de la región. Estará orientado a diversos públicos\, entre ellos\, estudiantes secundarios\, estudiantes universitarios\,  investigadores\, empresas y startups y público en general; buscando impulsar la incorporación de la nanotecnología.\nConocé las actividades en: iccti.chaco.gob.ar/semananano.
URL:https://iccti.chaco.gob.ar/event/lanzamiento/
LOCATION:Chaco
ATTACH;FMTTYPE=image/png:https://iccti.chaco.gob.ar/wp-content/uploads/2023/08/RRSS-SemanaNanoChaco-31.png
END:VEVENT
BEGIN:VEVENT
DTSTART;TZID=UTC:20230818T213000
DTEND;TZID=UTC:20230818T213000
DTSTAMP:20260421T054921
CREATED:20230731T185439Z
LAST-MODIFIED:20230731T225854Z
UID:3777-1692394200-1692394200@iccti.chaco.gob.ar
SUMMARY:Encuentros ABC: Amigos\, Birras y Ciencia.
DESCRIPTION:💥 ¡Preparate para el segundo Encuentro Amigos\, Birras y Ciencia! 🍺🔬 \nEn esta oportunidad\, nos visita Javier García de Souza 🙌 con su charla «Humor acuoso: la comedia y la tragedia de la ciencia».\n📆 Agendá el día Viernes 18 de Agosto\, en el Cecual (Sta. María de Oro 471\, Resistencia) para disfrutar de una noche a puro humor. \n👏 Entrada libre y gratuita.\n🍻 ¡Los primeros 40 inscriptos tendrán un regalito sorpresa el día el evento! Inscribite en bit.ly/EncuentroABC \n¡Los esperamos! 🫶
URL:https://iccti.chaco.gob.ar/event/encuentros-abc-amigos-birras-y-ciencia/
LOCATION:Chaco
ATTACH;FMTTYPE=image/jpeg:https://iccti.chaco.gob.ar/wp-content/uploads/2023/07/Gacetilla-scaled.jpg
ORGANIZER;CN="ICCTI":MAILTO:icctichaco@gmail.com
END:VEVENT
BEGIN:VEVENT
DTSTART;TZID=America/Argentina/Buenos_Aires:20230801T180000
DTEND;TZID=America/Argentina/Buenos_Aires:20230801T180000
DTSTAMP:20260421T054921
CREATED:20230731T184109Z
LAST-MODIFIED:20230731T184919Z
UID:3774-1690912800-1690912800@iccti.chaco.gob.ar
SUMMARY:MEETUPS: Ciencia y Negocios
DESCRIPTION:¿Querés aprender cómo transformar ciencia en conocimiento exportable? 🔬🚀 No te pierdas nuestro Meetup: Ciencia y Negocios 🧪💼 presentado por SF500-CONICET 🤝 Transformando la ciencia en conocimiento exportable. \n¡Conocé los disertantes!\n👩‍🔬 Laura Orcellet: Scouter Científica en SF500\, un fondo de inversión que busca impulsar el crecimiento de empresas en el ecosistema biotecnológico latinoamericano. 🔬\n👨🏼‍💼Francisco Buchara: Emprendedor\, Co-fundador y CEO de SF500. Especialista en desarrollo de proyectos de innovación públicos-privados. 🚀\n🧑🏻‍🔬 Alejandro Quenardelle: responsable de Vinculación Tecnológica del CONICET. Su rol es clave para promover la vinculación y transferencia tecnológica entre desarrollos científicos y empresas/organismos públicos. 🔁 \n📅  Martes 1 de agosto ⏰ desde las 18hs\n📍 Auditorio del Instituto de Medicina Regional UNNE (Av. Las Heras 727\, Resistencia)\n👉 Inscripción previa en: bit.ly/cienciaynegocios
URL:https://iccti.chaco.gob.ar/event/meetups-ciencia-y-negocios/
LOCATION:Chaco
ATTACH;FMTTYPE=image/jpeg:https://iccti.chaco.gob.ar/wp-content/uploads/2023/07/MeetUp_Gacetilla-scaled.jpg
ORGANIZER;CN="ICCTI":MAILTO:icctichaco@gmail.com
END:VEVENT
BEGIN:VEVENT
DTSTART;VALUE=DATE:20230706
DTEND;VALUE=DATE:20230731
DTSTAMP:20260421T054921
CREATED:20230721T152129Z
LAST-MODIFIED:20230721T152129Z
UID:3684-1688601600-1690761599@iccti.chaco.gob.ar
SUMMARY:Lugar a dudas en Resistencia
DESCRIPTION:“Lugar a Dudas” es la versión itinerante de la muestra de ciencias que imparte el C3 (Centro Cultural de la Ciencia) que depende del Ministerio de Ciencia\, Tecnología e Innovación de la Nación. El C3 es un espacio de encuentro e interacción entre la comunidad científica y el público en general en donde quienes visitan pueden participar de diversas actividades culturales\, recreativas y educativas relacionadas con las ciencias y su mirada sobre el mundo. Este espacio itinerante pensado para el desarrollo de actividades de extensión\, educación y divulgación científica\, con el objetivo de acercar la ciencia y la tecnología a la sociedad\, visitará por primera vez la Provincia del Chaco.
URL:https://iccti.chaco.gob.ar/event/lugar-a-dudas-en-resistencia/
LOCATION:Usina urbana\, Cervantes 1600\, Resistencia\, Chaco\, 3500\, Argentina
ATTACH;FMTTYPE=image/jpeg:https://iccti.chaco.gob.ar/wp-content/uploads/2023/07/WhatsApp-Image-2023-07-21-at-9.20.46-AM.jpeg
END:VEVENT
END:VCALENDAR